BEGIN:VCALENDAR
VERSION:2.0
PRODID:-//hacksw/handcal//NONSGML v1.0//EN
BEGIN:VEVENT
SUMMARY:reunion de finalisation du periple 2026
UID:ce746365-3e5e-4fac-ae98-9d2550fb82b4
DTSTART:20260519T180000Z
DTEND:20260519T200000Z
LOCATION:Localisation Salle de reunion du gymnase Jean Pierre Cellier 01150 LAGNIEU
CATEGORIES:Sportif
STATUS:
URL;VALUE=URI:https://www.cclagnieu01.com/evenements/2026/05/19/reunion-de-finalisation-du-periple-2026-2440467
END:VEVENT
END:VCALENDAR
