BEGIN:VCALENDAR
VERSION:2.0
PRODID:-//hacksw/handcal//NONSGML v1.0//EN
BEGIN:VEVENT
SUMMARY:Sortie a la journee des 3 lacs
UID:16b8deca-35d3-4aa4-afa4-63faee135400
DTSTART:20260513T220000Z
DTEND:20260514T220000Z
LOCATION:Localisation Parking du Port de Murs 01300 Murs et Gelignieux
CATEGORIES:Sportif
STATUS:
DESCRIPTION:<p>Sortie a la journee des 3 lacs est prevue le jeudi 14
 mai (Jeudi de l'Ascension) avec un depart du parking du Port de murs
 a Murs et Gelignieux (43 km de Lagnieu et 3/4 h de route). Cette
 balade passera au bord des lacs de Paladru, d'Aiguebelette et du
 Bourget et elle empruntera le tunnel cyclable du Chat long de 1,5 km.
 Cette sortie fait 157 km avec 2600 m de D+. Vous trouverez les
 details du circuit a partir du lien suivant : <a
 href="https://www.openrunner.com/route-details/23384121"
 target="_blank" rel="noreferrer
 noopener">https://www.openrunner.com/route-details/23384121</a> </p>
 
 <p>Les
 horaires et les modalites seront precises ulterieurement.</p>
URL;VALUE=URI:https://www.cclagnieu01.com/evenements/2026/05/14/sortie-a-la-journee-des-3-lacs-2421363
END:VEVENT
END:VCALENDAR
