BEGIN:VCALENDAR
VERSION:2.0
PRODID:-//hacksw/handcal//NONSGML v1.0//EN
BEGIN:VEVENT
SUMMARY:Laser Printemps 2026 1ere 1/2 journee
UID:d1369663-5a75-44a2-8984-015ece0eb37b
DTSTART:20260409T113000Z
DTEND:20260409T150000Z
LOCATION:Localisation   
CATEGORIES:Sportif
STATUS:
DESCRIPTION:<p><strong>Operation Laser de la mairie de Lagnieu pour
 les vacances de Paquesr 2026, jeudi 9 et jeudi 16 avril
 apres-midi.</strong></p>
 
 <p>- 1/2 journee : Sortie velo en
 exterieur, encadrement des enfants</p>
 
 <p>- 1/2 journee: "Atelier"
 mecanique (reglage selle, guidon, freins, pression des pneus, voir
 plus selon l'age et la maturite des participants) et maniabilite, en
 salle ou proche de la salle (parking, pumptrack).</p>
 
 <p>Le choix se
 fera la premiere semaine en fonction de la
 meteo.</p>
 
 <p><strong>Inscription des encadrants pour le
 09/04</strong></p>
 
 <p>Rendez-vous a 13h30 devant le gymnase de
 Lagnieu, allee Guy de la Verpilliere.</p>
URL;VALUE=URI:https://www.cclagnieu01.com/evenements/2026/04/09/laser-printemps-2026-1ere-12-journee-2433372
END:VEVENT
END:VCALENDAR
